BEGIN:VCALENDAR
VERSION:2.0
PRODID:-//Adams County Sheriff Office - ECPv6.15.17.1//NONSGML v1.0//EN
CALSCALE:GREGORIAN
METHOD:PUBLISH
X-WR-CALNAME:Adams County Sheriff Office
X-ORIGINAL-URL:https://adamssheriffco.gov
X-WR-CALDESC:Events for Adams County Sheriff Office
REFRESH-INTERVAL;VALUE=DURATION:PT1H
X-Robots-Tag:noindex
X-PUBLISHED-TTL:PT1H
BEGIN:VTIMEZONE
TZID:America/Denver
BEGIN:DAYLIGHT
TZOFFSETFROM:-0700
TZOFFSETTO:-0600
TZNAME:MDT
DTSTART:20250309T090000
END:DAYLIGHT
BEGIN:STANDARD
TZOFFSETFROM:-0600
TZOFFSETTO:-0700
TZNAME:MST
DTSTART:20251102T080000
END:STANDARD
BEGIN:DAYLIGHT
TZOFFSETFROM:-0700
TZOFFSETTO:-0600
TZNAME:MDT
DTSTART:20260308T090000
END:DAYLIGHT
BEGIN:STANDARD
TZOFFSETFROM:-0600
TZOFFSETTO:-0700
TZNAME:MST
DTSTART:20261101T080000
END:STANDARD
BEGIN:DAYLIGHT
TZOFFSETFROM:-0700
TZOFFSETTO:-0600
TZNAME:MDT
DTSTART:20270314T090000
END:DAYLIGHT
BEGIN:STANDARD
TZOFFSETFROM:-0600
TZOFFSETTO:-0700
TZNAME:MST
DTSTART:20271107T080000
END:STANDARD
END:VTIMEZONE
BEGIN:VEVENT
DTSTART;TZID=America/Denver:20261121T100000
DTEND;TZID=America/Denver:20261121T140000
DTSTAMP:20260424T151841
CREATED:20260210T231734Z
LAST-MODIFIED:20260210T231734Z
UID:4989-1795255200-1795269600@adamssheriffco.gov
SUMMARY:2026 ACSO Operation Freebird
DESCRIPTION:Each year\, ACSO hosts its annual Operation Freebird event\, which provides the community with access to free food from ACSO and Food Bank of the Rockies. The event is held on Saturday\, Nov. 21\, from 10 a.m. to 2 p.m. at Mountain States Toyota at 201 W. 70th Ave.\, Denver\, CO. 80221. \nThis event is presented on behalf of the Sheriff’s Office\, in conjunction with Waste Management\, Mountain States Toyota and Food Bank of the Rockies. \nFood boxes will be available while supplies last. Individuals must be present to receive food items. Individuals can also receive dental screening\, flu shots\, mental health resources\, veteran services\, housing and food assistance and other resources.
URL:https://adamssheriffco.gov/event/2026-acso-operation-freebird/
LOCATION:Mountain States Toyota\, 201 W. 70th Ave.\, Denver\, CO\, 80221\, United States
CATEGORIES:ACSO Event,Community Engagement
ATTACH;FMTTYPE=image/jpeg:https://adamssheriffco.gov/wp-content/uploads/2026/02/Operation-Freebird-scaled-aspect-ratio-850-620.jpg
END:VEVENT
END:VCALENDAR