BEGIN:VCALENDAR
VERSION:2.0
PRODID:-//Adams County Sheriff Office - ECPv6.15.17.1//NONSGML v1.0//EN
CALSCALE:GREGORIAN
METHOD:PUBLISH
X-WR-CALNAME:Adams County Sheriff Office
X-ORIGINAL-URL:https://adamssheriffco.gov
X-WR-CALDESC:Events for Adams County Sheriff Office
REFRESH-INTERVAL;VALUE=DURATION:PT1H
X-Robots-Tag:noindex
X-PUBLISHED-TTL:PT1H
BEGIN:VTIMEZONE
TZID:America/Denver
BEGIN:DAYLIGHT
TZOFFSETFROM:-0700
TZOFFSETTO:-0600
TZNAME:MDT
DTSTART:20250309T090000
END:DAYLIGHT
BEGIN:STANDARD
TZOFFSETFROM:-0600
TZOFFSETTO:-0700
TZNAME:MST
DTSTART:20251102T080000
END:STANDARD
BEGIN:DAYLIGHT
TZOFFSETFROM:-0700
TZOFFSETTO:-0600
TZNAME:MDT
DTSTART:20260308T090000
END:DAYLIGHT
BEGIN:STANDARD
TZOFFSETFROM:-0600
TZOFFSETTO:-0700
TZNAME:MST
DTSTART:20261101T080000
END:STANDARD
BEGIN:DAYLIGHT
TZOFFSETFROM:-0700
TZOFFSETTO:-0600
TZNAME:MDT
DTSTART:20270314T090000
END:DAYLIGHT
BEGIN:STANDARD
TZOFFSETFROM:-0600
TZOFFSETTO:-0700
TZNAME:MST
DTSTART:20271107T080000
END:STANDARD
END:VTIMEZONE
BEGIN:VEVENT
DTSTART;TZID=America/Denver:20260616T080000
DTEND;TZID=America/Denver:20260619T170000
DTSTAMP:20260420T061907
CREATED:20260410T171156Z
LAST-MODIFIED:20260410T172103Z
UID:5324-1781596800-1781888400@adamssheriffco.gov
SUMMARY:Teen Academy 2026
DESCRIPTION:Our Teen Academy is back for 2026! \nCome join us for an exciting look behind the scenes of the Adams County Sheriff’s Office.  Participants will get hands-on experience with criminal investigations\, crime scene evidence processing\, firearm safety\, defensive tactics and much more! \nApplications can be found here:  Teen Academy Application \nThey are due May 15\, 2026 \nThe applications can be returned to your SRO\, in person at our substation (4201 E. 72nd Ave) or emailed to nplese@adamssheriffco.gov. \n 
URL:https://adamssheriffco.gov/event/teen-academy-2026/
LOCATION:Flatrock Training Center\, 23600 E 128th Ave\, Commerce City\, Colorado\, 80022
ATTACH;FMTTYPE=image/jpeg:https://adamssheriffco.gov/wp-content/uploads/2026/04/891c5f06-6dda-4220-96a1-889036e96ea3-1-aspect-ratio-850-620-2.jpeg
END:VEVENT
END:VCALENDAR